BEGIN:VCALENDAR
VERSION:2.0
PRODID:SchoolNow
CALSCALE:GREGORIAN
BEGIN:VEVENT
UID:2eb85040-8903-11f0-bde1-0a58a9feac02
DTSTAMP:20260421T025547Z
SUMMARY:Board of Education Meeting
LOCATION:Kimberly Area School District Administration Office - Venture Comm
 unity Room\, Board of Education Calendar
URL;VALUE=URI:https://www.kimberly.k12.wi.us/departments/boe/calendar/85756
 93/board-of-education-meeting
DTSTART:20270426T233000Z
DTEND:20270427T013000Z
END:VEVENT
END:VCALENDAR
