BEGIN:VCALENDAR
VERSION:2.0
PRODID:SchoolNow
CALSCALE:GREGORIAN
BEGIN:VEVENT
UID:eb613570-07cc-11f1-a1af-0a58a9feac02
DTSTAMP:20260422T031554Z
SUMMARY:Board of Education Meeting
LOCATION:Kimberly Area School District Administration Office\, 425 S Washin
 gton St\, Combined Locks\, WI 54113\, USA\, Board of Education Calendar
URL;VALUE=URI:https://www.kimberly.k12.wi.us/departments/boe/calendar/88536
 50/board-of-education-meeting
DTSTART:20271011T233000Z
DTEND:20271012T013000Z
END:VEVENT
END:VCALENDAR
