BEGIN:VCALENDAR
VERSION:2.0
PRODID:SchoolNow
CALSCALE:GREGORIAN
BEGIN:VEVENT
UID:e0a6774c-3799-11f1-a38e-0e6ce3cebca1
DTSTAMP:20260420T084045Z
SUMMARY:Board of Education Meeting
LOCATION:Kimberly Area School District Administration Office\, 425 S Washin
 gton St\, Combined Locks\, WI 54113\, USA\, Board of Education Calendar
URL;VALUE=URI:https://www.kimberly.k12.wi.us/departments/boe/calendar/89917
 12/board-of-education-meeting
DTSTART:20271214T003000Z
DTEND:20271214T023000Z
END:VEVENT
END:VCALENDAR
