BEGIN:VCALENDAR
VERSION:2.0
PRODID:SchoolNow
CALSCALE:GREGORIAN
BEGIN:VEVENT
UID:aefa2320-c4ff-11ed-8320-02fac26468f9
DTSTAMP:20240722T210542Z
SUMMARY:Child Development Day
URL;VALUE=URI:https://www.kimberly.k12.wi.us/janssen-elementary/calendar/38
 84038/child-development-day
DTSTART;VALUE=DATE:20240814
DTEND;VALUE=DATE:20240815
END:VEVENT
END:VCALENDAR
