BEGIN:VCALENDAR
VERSION:2.0
PRODID:SchoolNow
CALSCALE:GREGORIAN
BEGIN:VEVENT
UID:3f6b1d12-4c79-11f0-a24f-0a58a9feac02
DTSTAMP:20260425T153008Z
SUMMARY:JRG Spring Choir Concert
LOCATION:Kimberly High School\, 1662 Kennedy Ave\, Kimberly\, WI 54136\, US
 A
URL;VALUE=URI:https://www.kimberly.k12.wi.us/jr-gerritts-middle/calendar/83
 24446/jrg-spring-choir-concert
DTSTART:20260519T233000Z
DTEND:20260520T010000Z
END:VEVENT
END:VCALENDAR
