BEGIN:VCALENDAR
VERSION:2.0
PRODID:SchoolNow
CALSCALE:GREGORIAN
BEGIN:VEVENT
UID:61b90d98-5d9a-11f0-a4d4-0a58a9feac02
DTSTAMP:20260425T213507Z
SUMMARY:JRG-Community Connections
URL;VALUE=URI:https://www.kimberly.k12.wi.us/jr-gerritts-middle/calendar/84
 01948/jrg-community-connections
DTSTART:20260123T133000Z
DTEND:20260123T172000Z
END:VEVENT
END:VCALENDAR
