BEGIN:VCALENDAR
VERSION:2.0
PRODID:SchoolNow
CALSCALE:GREGORIAN
BEGIN:VEVENT
UID:61b90e74-5d9a-11f0-bc48-0a58a9feac02
DTSTAMP:20260425T213507Z
SUMMARY:JRG Early Release @ 11:20am
URL;VALUE=URI:https://www.kimberly.k12.wi.us/jr-gerritts-middle/calendar/84
 01949/jrg-early-release-11-20am
DTSTART:20260123T172000Z
DTEND:20260123T182000Z
END:VEVENT
END:VCALENDAR
