BEGIN:VCALENDAR
VERSION:2.0
PRODID:SchoolNow
CALSCALE:GREGORIAN
BEGIN:VEVENT
UID:61b912e8-5d9a-11f0-83fd-0a58a9feac02
DTSTAMP:20260425T153007Z
SUMMARY:JRG Spring Musical
LOCATION:JRG Auditorium
URL;VALUE=URI:https://www.kimberly.k12.wi.us/jr-gerritts-middle/calendar/84
 01953/jrg-spring-musical
DTSTART:20260306T010000Z
DTEND:20260306T030000Z
END:VEVENT
END:VCALENDAR
