BEGIN:VCALENDAR
VERSION:2.0
PRODID:SchoolNow
CALSCALE:GREGORIAN
BEGIN:VEVENT
UID:61b913ce-5d9a-11f0-a79a-0a58a9feac02
DTSTAMP:20260425T153008Z
SUMMARY:JRG Spring Musical
LOCATION:JRG Auditorium
URL;VALUE=URI:https://www.kimberly.k12.wi.us/jr-gerritts-middle/calendar/84
 01954/jrg-spring-musical
DTSTART:20260307T200000Z
DTEND:20260307T220000Z
END:VEVENT
END:VCALENDAR
