BEGIN:VCALENDAR
VERSION:2.0
PRODID:SchoolNow
CALSCALE:GREGORIAN
BEGIN:VEVENT
UID:61b914be-5d9a-11f0-aa36-0a58a9feac02
DTSTAMP:20260425T153008Z
SUMMARY:JRG Spring Musical
LOCATION:JRG Auditorium
URL;VALUE=URI:https://www.kimberly.k12.wi.us/jr-gerritts-middle/calendar/84
 01955/jrg-spring-musical
DTSTART:20260307T010000Z
DTEND:20260307T030000Z
END:VEVENT
END:VCALENDAR
