BEGIN:VCALENDAR
VERSION:2.0
PRODID:SchoolNow
CALSCALE:GREGORIAN
BEGIN:VEVENT
UID:61b91680-5d9a-11f0-8661-0a58a9feac02
DTSTAMP:20260425T153008Z
SUMMARY:JRG Early Release
URL;VALUE=URI:https://www.kimberly.k12.wi.us/jr-gerritts-middle/calendar/84
 01957/jrg-early-release
DTSTART:20260313T162000Z
DTEND:20260313T172000Z
END:VEVENT
END:VCALENDAR
