BEGIN:VCALENDAR
VERSION:2.0
PRODID:SchoolNow
CALSCALE:GREGORIAN
BEGIN:VEVENT
UID:61b91766-5d9a-11f0-8b95-0a58a9feac02
DTSTAMP:20260425T153008Z
SUMMARY:Exchange Choir Concert (MAP/WDL/JRG)
URL;VALUE=URI:https://www.kimberly.k12.wi.us/jr-gerritts-middle/calendar/84
 01958/exchange-choir-concert-map-wdl-jrg
DTSTART:20260316T201500Z
DTEND:20260316T211500Z
END:VEVENT
END:VCALENDAR
