BEGIN:VCALENDAR
VERSION:2.0
PRODID:SchoolNow
CALSCALE:GREGORIAN
BEGIN:VEVENT
UID:61b91842-5d9a-11f0-a1eb-0a58a9feac02
DTSTAMP:20260425T153008Z
SUMMARY:Forward Exam Window Opens
URL;VALUE=URI:https://www.kimberly.k12.wi.us/jr-gerritts-middle/calendar/84
 01959/forward-exam-window-opens
DTSTART:20260316T120000Z
DTEND:20260316T130000Z
END:VEVENT
END:VCALENDAR
