BEGIN:VCALENDAR
VERSION:2.0
PRODID:SchoolNow
CALSCALE:GREGORIAN
BEGIN:VEVENT
UID:61b91928-5d9a-11f0-982a-0a58a9feac02
DTSTAMP:20260425T153008Z
SUMMARY:JRG 7th Grade Orientation Night
URL;VALUE=URI:https://www.kimberly.k12.wi.us/jr-gerritts-middle/calendar/84
 01960/jrg-7th-grade-orientation-night
DTSTART:20260507T230000Z
DTEND:20260508T001500Z
END:VEVENT
END:VCALENDAR
