BEGIN:VCALENDAR
VERSION:2.0
PRODID:SchoolNow
CALSCALE:GREGORIAN
BEGIN:VEVENT
UID:61b91c84-5d9a-11f0-9626-0a58a9feac02
DTSTAMP:20260425T153008Z
SUMMARY:JRG Community Connections
URL;VALUE=URI:https://www.kimberly.k12.wi.us/jr-gerritts-middle/calendar/84
 01961/jrg-community-connections
DTSTART:20260508T123000Z
DTEND:20260508T162000Z
END:VEVENT
END:VCALENDAR
