BEGIN:VCALENDAR
VERSION:2.0
PRODID:SchoolNow
CALSCALE:GREGORIAN
BEGIN:VEVENT
UID:61b91dec-5d9a-11f0-8c71-0a58a9feac02
DTSTAMP:20260425T153007Z
SUMMARY:JRG Early Release
URL;VALUE=URI:https://www.kimberly.k12.wi.us/jr-gerritts-middle/calendar/84
 01962/jrg-early-release
DTSTART:20260508T162000Z
DTEND:20260508T172000Z
END:VEVENT
END:VCALENDAR
