BEGIN:VCALENDAR
VERSION:2.0
PRODID:SchoolNow
CALSCALE:GREGORIAN
BEGIN:VEVENT
UID:61b91edc-5d9a-11f0-9ee4-0a58a9feac02
DTSTAMP:20260425T153008Z
SUMMARY:No School
URL;VALUE=URI:https://www.kimberly.k12.wi.us/jr-gerritts-middle/calendar/84
 01963/no-school
DTSTART:20260525T120000Z
DTEND:20260525T200000Z
END:VEVENT
END:VCALENDAR
