BEGIN:VCALENDAR
VERSION:2.0
PRODID:SchoolNow
CALSCALE:GREGORIAN
BEGIN:VEVENT
UID:61b91fc2-5d9a-11f0-b2b3-0a58a9feac02
DTSTAMP:20260425T213507Z
SUMMARY:8th Grade Recognition
URL;VALUE=URI:https://www.kimberly.k12.wi.us/jr-gerritts-middle/calendar/84
 01964/8th-grade-recognition
DTSTART:20260602T230000Z
DTEND:20260603T010000Z
END:VEVENT
END:VCALENDAR
