BEGIN:VCALENDAR
VERSION:2.0
PRODID:SchoolNow
CALSCALE:GREGORIAN
BEGIN:VEVENT
UID:61b9209e-5d9a-11f0-8d8c-0a58a9feac02
DTSTAMP:20260425T213507Z
SUMMARY:Last Day of School
URL;VALUE=URI:https://www.kimberly.k12.wi.us/jr-gerritts-middle/calendar/84
 01965/last-day-of-school
DTSTART:20260604T120000Z
DTEND:20260604T200000Z
END:VEVENT
END:VCALENDAR
