BEGIN:VCALENDAR
VERSION:2.0
PRODID:SchoolNow
CALSCALE:GREGORIAN
BEGIN:VEVENT
UID:61b92396-5d9a-11f0-bf99-0a58a9feac02
DTSTAMP:20260425T213507Z
SUMMARY:No School-Winter Break
URL;VALUE=URI:https://www.kimberly.k12.wi.us/jr-gerritts-middle/calendar/84
 01968/no-school-winter-break
DTSTART:20251226T130000Z
DTEND:20251226T210000Z
END:VEVENT
END:VCALENDAR
