BEGIN:VCALENDAR
VERSION:2.0
PRODID:SchoolNow
CALSCALE:GREGORIAN
BEGIN:VEVENT
UID:61b92c60-5d9a-11f0-be2c-0a58a9feac02
DTSTAMP:20260425T153008Z
SUMMARY:Spring Break
URL;VALUE=URI:https://www.kimberly.k12.wi.us/jr-gerritts-middle/calendar/84
 01978/spring-break
DTSTART:20260330T120000Z
DTEND:20260330T200000Z
END:VEVENT
END:VCALENDAR
