BEGIN:VCALENDAR
VERSION:2.0
PRODID:SchoolNow
CALSCALE:GREGORIAN
BEGIN:VEVENT
UID:61b92efe-5d9a-11f0-a1d5-0a58a9feac02
DTSTAMP:20260425T153008Z
SUMMARY:Spring Break
URL;VALUE=URI:https://www.kimberly.k12.wi.us/jr-gerritts-middle/calendar/84
 01981/spring-break
DTSTART:20260402T120000Z
DTEND:20260402T200000Z
END:VEVENT
END:VCALENDAR
