BEGIN:VCALENDAR
VERSION:2.0
PRODID:SchoolNow
CALSCALE:GREGORIAN
BEGIN:VEVENT
UID:61b92fd0-5d9a-11f0-a568-0a58a9feac02
DTSTAMP:20260425T153008Z
SUMMARY:Spring Break
URL;VALUE=URI:https://www.kimberly.k12.wi.us/jr-gerritts-middle/calendar/84
 01982/spring-break
DTSTART:20260403T120000Z
DTEND:20260403T200000Z
END:VEVENT
END:VCALENDAR
