BEGIN:VCALENDAR
VERSION:2.0
PRODID:SchoolNow
CALSCALE:GREGORIAN
BEGIN:VEVENT
UID:1b18eaa4-eb0a-11f0-bc49-0affed4ef761
DTSTAMP:20260425T213507Z
SUMMARY:JRG *th Grade Ski Club
LOCATION:Nordic Mountain\, W5806 County Rd W\, Wild Rose\, WI 54984\, USA
URL;VALUE=URI:https://www.kimberly.k12.wi.us/jr-gerritts-middle/calendar/88
 29674/jrg-th-grade-ski-club
DTSTART:20260122T221500Z
DTEND:20260123T040000Z
END:VEVENT
END:VCALENDAR
