BEGIN:VCALENDAR
VERSION:2.0
PRODID:SchoolNow
CALSCALE:GREGORIAN
BEGIN:VEVENT
UID:1b18eba8-eb0a-11f0-bf2e-0affed4ef761
DTSTAMP:20260425T213507Z
SUMMARY:JRG 7th & 8th Grade Ski Club
LOCATION:Nordic Mountain\, W5806 County Rd W\, Wild Rose\, WI 54984\, USA
URL;VALUE=URI:https://www.kimberly.k12.wi.us/jr-gerritts-middle/calendar/88
 29675/jrg-7th-8th-grade-ski-club
DTSTART:20260129T221500Z
DTEND:20260130T040000Z
END:VEVENT
END:VCALENDAR
