BEGIN:VCALENDAR
VERSION:2.0
PRODID:SchoolNow
CALSCALE:GREGORIAN
BEGIN:VEVENT
UID:10988eaa-ebd6-11f0-9903-0e23f8478959
DTSTAMP:20260425T213507Z
SUMMARY:YMCA Closure at 4pm!!
URL;VALUE=URI:https://www.kimberly.k12.wi.us/jr-gerritts-middle/calendar/88
 32266/ymca-closure-at-4pm
DTSTART:20260115T220000Z
DTEND:20260116T000000Z
END:VEVENT
END:VCALENDAR
