BEGIN:VCALENDAR
VERSION:2.0
PRODID:SchoolNow
CALSCALE:GREGORIAN
BEGIN:VEVENT
UID:7ecbc0e6-f60c-11f0-a853-0a58a9feac02
DTSTAMP:20260425T213508Z
SUMMARY:Papermaker Youth Winter Softball Camp
LOCATION:KHS Indoor Facility
URL;VALUE=URI:https://www.kimberly.k12.wi.us/jr-gerritts-middle/calendar/88
 37988/papermaker-youth-winter-softball-camp
DTSTART:20251229T190000Z
DTEND:20251229T203000Z
ATTACH;FILENAME=Softball Holiday Camp 2025-2026.pdf;FMTTYPE=application/pdf
 :https://drive.google.com/file/d/1eVeThf0VFLhqmUOZ2w3zdoqA77-Kzo92/view?us
 p=sharing
END:VEVENT
END:VCALENDAR
