BEGIN:VCALENDAR
VERSION:2.0
PRODID:SchoolNow
CALSCALE:GREGORIAN
BEGIN:VEVENT
UID:7ecbc24e-f60c-11f0-9b44-0a58a9feac02
DTSTAMP:20260425T213508Z
SUMMARY:Girls Volleyball Holiday Camp
URL;VALUE=URI:https://www.kimberly.k12.wi.us/jr-gerritts-middle/calendar/88
 37989/girls-volleyball-holiday-camp
DTSTART:20251229T204500Z
DTEND:20251229T230000Z
ATTACH;FILENAME=Volleyball Holiday Camp 2025-2026.pdf;FMTTYPE=application/p
 df:https://drive.google.com/open?id=1_oeOuk9sXX7c17aROG7vSTJrOkDLC-8t
END:VEVENT
END:VCALENDAR
