BEGIN:VCALENDAR
VERSION:2.0
PRODID:SchoolNow
CALSCALE:GREGORIAN
BEGIN:VEVENT
UID:7ecbc578-f60c-11f0-9571-0a58a9feac02
DTSTAMP:20260425T213508Z
SUMMARY:Papermaker Youth Winter Softball Camp
LOCATION:KHS Indoor Facility
URL;VALUE=URI:https://www.kimberly.k12.wi.us/jr-gerritts-middle/calendar/88
 37992/papermaker-youth-winter-softball-camp
DTSTART:20251230T190000Z
DTEND:20251230T203000Z
ATTACH;FILENAME=Softball Holiday Camp 2025-2026.pdf;FMTTYPE=application/pdf
 :https://drive.google.com/open?id=1eVeThf0VFLhqmUOZ2w3zdoqA77-Kzo92
END:VEVENT
END:VCALENDAR
