BEGIN:VCALENDAR
VERSION:2.0
PRODID:SchoolNow
CALSCALE:GREGORIAN
BEGIN:VEVENT
UID:7ecbcbfe-f60c-11f0-8a82-0a58a9feac02
DTSTAMP:20260425T213508Z
SUMMARY:Girl's Basketball Game-Team White
LOCATION:Neenah Middle School\, 1275 Tullar Rd\, Neenah\, WI 54956\, USA
URL;VALUE=URI:https://www.kimberly.k12.wi.us/jr-gerritts-middle/calendar/88
 37998/girls-basketball-game-team-white
DTSTART:20260127T220000Z
DTEND:20260127T233000Z
END:VEVENT
END:VCALENDAR
