BEGIN:VCALENDAR
VERSION:2.0
PRODID:SchoolNow
CALSCALE:GREGORIAN
BEGIN:VEVENT
UID:7ecbcd48-f60c-11f0-8e4b-0a58a9feac02
DTSTAMP:20260425T213508Z
SUMMARY:Kimberly Baseball Winter Camp
URL;VALUE=URI:https://www.kimberly.k12.wi.us/jr-gerritts-middle/calendar/88
 37999/kimberly-baseball-winter-camp
DTSTART:20251226T203000Z
DTEND:20251226T223000Z
ATTACH;FILENAME=WINTER_CAMP__25;FMTTYPE=application/octet-stream:https://do
 cs.google.com/document/d/1SdFwalm-GN_38d5BFgYVl7AIbrSmhwj7_GEbmuIH3Q8/edit
 ?tab=t.0
END:VEVENT
END:VCALENDAR
