BEGIN:VCALENDAR
VERSION:2.0
PRODID:SchoolNow
CALSCALE:GREGORIAN
BEGIN:VEVENT
UID:7ecbdbee-f60c-11f0-a4f2-0a58a9feac02
DTSTAMP:20260425T213508Z
SUMMARY:Girl's Basketball Game Team Red
LOCATION:John R Gerritts Middle School\, 545 S John St\, Kimberly\, WI 5413
 6\, USA
URL;VALUE=URI:https://www.kimberly.k12.wi.us/jr-gerritts-middle/calendar/88
 38006/girls-basketball-game-team-red
DTSTART:20260115T220000Z
DTEND:20260115T233000Z
END:VEVENT
END:VCALENDAR
