BEGIN:VCALENDAR
VERSION:2.0
PRODID:SchoolNow
CALSCALE:GREGORIAN
BEGIN:VEVENT
UID:7ecbdcd4-f60c-11f0-8547-0a58a9feac02
DTSTAMP:20260425T213508Z
SUMMARY:Girl's Basketball Game-Team Red
LOCATION:Hortonville Middle School\, 220 Warner St\, Hortonville\, WI 54944
 \, USA
URL;VALUE=URI:https://www.kimberly.k12.wi.us/jr-gerritts-middle/calendar/88
 38007/girls-basketball-game-team-red
DTSTART:20260120T220000Z
DTEND:20260121T003000Z
END:VEVENT
END:VCALENDAR
