BEGIN:VCALENDAR
VERSION:2.0
PRODID:SchoolNow
CALSCALE:GREGORIAN
BEGIN:VEVENT
UID:7ecbddce-f60c-11f0-b7b2-0a58a9feac02
DTSTAMP:20260425T213508Z
SUMMARY:Girl's Basketball Game-Team White
LOCATION:Greenville Middle School\, N1450 Fawn Ridge Dr\, Greenville\, WI 5
 4942\, USA
URL;VALUE=URI:https://www.kimberly.k12.wi.us/jr-gerritts-middle/calendar/88
 38008/girls-basketball-game-team-white
DTSTART:20260115T220000Z
DTEND:20260115T233000Z
END:VEVENT
END:VCALENDAR
