BEGIN:VCALENDAR
VERSION:2.0
PRODID:SchoolNow
CALSCALE:GREGORIAN
BEGIN:VEVENT
UID:7ecbdfae-f60c-11f0-83b0-0a58a9feac02
DTSTAMP:20260425T213508Z
SUMMARY:Kimberly Baseball Winter Camp
URL;VALUE=URI:https://www.kimberly.k12.wi.us/jr-gerritts-middle/calendar/88
 38010/kimberly-baseball-winter-camp
DTSTART:20251227T203000Z
DTEND:20251227T223000Z
ATTACH;FILENAME=WINTER_CAMP__25;FMTTYPE=application/octet-stream:https://dr
 ive.google.com/open?id=1SdFwalm-GN_38d5BFgYVl7AIbrSmhwj7_GEbmuIH3Q8
END:VEVENT
END:VCALENDAR
