BEGIN:VCALENDAR
VERSION:2.0
PRODID:SchoolNow
CALSCALE:GREGORIAN
BEGIN:VEVENT
UID:7ecbe29c-f60c-11f0-8659-0a58a9feac02
DTSTAMP:20260425T213508Z
SUMMARY:Girl's Basketball Game-Team White
LOCATION:Woodworth Middle School\, 101 Morningside Dr\, Fond du Lac\, WI 54
 935\, USA
URL;VALUE=URI:https://www.kimberly.k12.wi.us/jr-gerritts-middle/calendar/88
 38013/girls-basketball-game-team-white
DTSTART:20260122T220000Z
DTEND:20260122T233000Z
END:VEVENT
END:VCALENDAR
