BEGIN:VCALENDAR
VERSION:2.0
PRODID:SchoolNow
CALSCALE:GREGORIAN
BEGIN:VEVENT
UID:c561367c-f70a-11f0-8971-0a58a9feac02
DTSTAMP:20260425T153009Z
SUMMARY:Wrestling Meet
LOCATION:Appleton North High School\, 5000 N Ballard Rd\, Appleton\, WI 549
 13\, USA
URL;VALUE=URI:https://www.kimberly.k12.wi.us/jr-gerritts-middle/calendar/88
 38903/wrestling-meet
DTSTART:20260307T143000Z
DTEND:20260307T183000Z
END:VEVENT
END:VCALENDAR
