BEGIN:VCALENDAR
VERSION:2.0
PRODID:SchoolNow
CALSCALE:GREGORIAN
BEGIN:VEVENT
UID:c5613816-f70a-11f0-bffa-0a58a9feac02
DTSTAMP:20260425T213508Z
SUMMARY:Wrestling Meet
LOCATION:John R Gerritts Middle School\, 545 S John St\, Kimberly\, WI 5413
 6\, USA
URL;VALUE=URI:https://www.kimberly.k12.wi.us/jr-gerritts-middle/calendar/88
 38904/wrestling-meet
DTSTART:20260127T221500Z
DTEND:20260127T234500Z
END:VEVENT
END:VCALENDAR
