BEGIN:VCALENDAR
VERSION:2.0
PRODID:SchoolNow
CALSCALE:GREGORIAN
BEGIN:VEVENT
UID:3501533e-1be3-11f1-b055-0a58a9feac02
DTSTAMP:20260425T153008Z
SUMMARY:Student-Staff Basketball and Volleyball Game/Raffle
URL;VALUE=URI:https://www.kimberly.k12.wi.us/jr-gerritts-middle/calendar/89
 04301/student-staff-basketball-and-volleyball-game-raffle
DTSTART:20260424T175400Z
DTEND:20260424T194800Z
END:VEVENT
END:VCALENDAR
