BEGIN:VCALENDAR
VERSION:2.0
PRODID:SchoolNow
CALSCALE:GREGORIAN
BEGIN:VEVENT
UID:cfb26b5e-23a7-11f1-94c5-0a58a9feac02
DTSTAMP:20260425T153009Z
SUMMARY:Tennis-Organizational Meeting & Practice
URL;VALUE=URI:https://www.kimberly.k12.wi.us/jr-gerritts-middle/calendar/89
 29992/tennis-organizational-meeting-practice
DTSTART:20260413T201000Z
DTEND:20260413T211500Z
END:VEVENT
END:VCALENDAR
