BEGIN:VCALENDAR
VERSION:2.0
PRODID:SchoolNow
CALSCALE:GREGORIAN
BEGIN:VEVENT
UID:cfb270a4-23a7-11f1-af3c-0a58a9feac02
DTSTAMP:20260425T153009Z
SUMMARY:Tennis Match Vs. Xavier
LOCATION:John R Gerritts Middle School\, 545 S John St\, Kimberly\, WI 5413
 6\, USA
URL;VALUE=URI:https://www.kimberly.k12.wi.us/jr-gerritts-middle/calendar/89
 29993/tennis-match-vs-xavier
DTSTART:20260430T210000Z
DTEND:20260430T230000Z
END:VEVENT
END:VCALENDAR
