BEGIN:VCALENDAR
VERSION:2.0
PRODID:SchoolNow
CALSCALE:GREGORIAN
BEGIN:VEVENT
UID:cfb27248-23a7-11f1-83d6-0a58a9feac02
DTSTAMP:20260425T153009Z
SUMMARY:Track Meet vs. Woodworth
LOCATION:John R Gerritts Middle School\, 545 S John St\, Kimberly\, WI 5413
 6\, USA
URL;VALUE=URI:https://www.kimberly.k12.wi.us/jr-gerritts-middle/calendar/89
 29994/track-meet-vs-woodworth
DTSTART:20260422T204500Z
DTEND:20260422T234500Z
END:VEVENT
END:VCALENDAR
