BEGIN:VCALENDAR
VERSION:2.0
PRODID:SchoolNow
CALSCALE:GREGORIAN
BEGIN:VEVENT
UID:cfb27522-23a7-11f1-8540-0a58a9feac02
DTSTAMP:20260425T153009Z
SUMMARY:Tennis Match vs. St. Mary's Central
LOCATION:John R Gerritts Middle School\, 545 S John St\, Kimberly\, WI 5413
 6\, USA
URL;VALUE=URI:https://www.kimberly.k12.wi.us/jr-gerritts-middle/calendar/89
 29995/tennis-match-vs-st-marys-central
DTSTART:20260511T210000Z
DTEND:20260511T230000Z
END:VEVENT
END:VCALENDAR
