BEGIN:VCALENDAR
VERSION:2.0
PRODID:SchoolNow
CALSCALE:GREGORIAN
BEGIN:VEVENT
UID:cfb2764e-23a7-11f1-81d0-0a58a9feac02
DTSTAMP:20260425T153009Z
SUMMARY:Track Meet vs. KMS
LOCATION:Kaukauna High School\, 1701 County Rd CE\, Kaukauna\, WI 54130\, U
 SA
URL;VALUE=URI:https://www.kimberly.k12.wi.us/jr-gerritts-middle/calendar/89
 29996/track-meet-vs-kms
DTSTART:20260420T204500Z
DTEND:20260420T234500Z
END:VEVENT
END:VCALENDAR
