BEGIN:VCALENDAR
VERSION:2.0
PRODID:SchoolNow
CALSCALE:GREGORIAN
BEGIN:VEVENT
UID:cfb27748-23a7-11f1-982f-0a58a9feac02
DTSTAMP:20260425T153009Z
SUMMARY:Track Meet vs. Menasha
LOCATION:John R Gerritts Middle School\, 545 S John St\, Kimberly\, WI 5413
 6\, USA
URL;VALUE=URI:https://www.kimberly.k12.wi.us/jr-gerritts-middle/calendar/89
 29997/track-meet-vs-menasha
DTSTART:20260428T204500Z
DTEND:20260428T234500Z
END:VEVENT
END:VCALENDAR
