BEGIN:VCALENDAR
VERSION:2.0
PRODID:SchoolNow
CALSCALE:GREGORIAN
BEGIN:VEVENT
UID:cfb27838-23a7-11f1-b1bb-0a58a9feac02
DTSTAMP:20260425T153009Z
SUMMARY:Track Meet vs. Neenah MS
LOCATION:Neenah Middle School\, 1275 Tullar Rd\, Neenah\, WI 54956\, USA
URL;VALUE=URI:https://www.kimberly.k12.wi.us/jr-gerritts-middle/calendar/89
 29998/track-meet-vs-neenah-ms
DTSTART:20260513T204500Z
DTEND:20260513T234500Z
END:VEVENT
END:VCALENDAR
