BEGIN:VCALENDAR
VERSION:2.0
PRODID:SchoolNow
CALSCALE:GREGORIAN
BEGIN:VEVENT
UID:cfb27a22-23a7-11f1-9ad6-0a58a9feac02
DTSTAMP:20260425T153009Z
SUMMARY:Track Meet vs Greenville MS
LOCATION:Hortonville High School\, 155 Warner St\, Hortonville\, WI 54944\,
  USA
URL;VALUE=URI:https://www.kimberly.k12.wi.us/jr-gerritts-middle/calendar/89
 29999/track-meet-vs-greenville-ms
DTSTART:20260504T204500Z
DTEND:20260504T234500Z
END:VEVENT
END:VCALENDAR
