BEGIN:VCALENDAR
VERSION:2.0
PRODID:SchoolNow
CALSCALE:GREGORIAN
BEGIN:VEVENT
UID:cfb27b6c-23a7-11f1-bfab-0a58a9feac02
DTSTAMP:20260425T153009Z
SUMMARY:Track Meet vs. Sabish MS
LOCATION:Fond du Lac High School\, 801 Campus Dr\, Fond du Lac\, WI 54935\,
  USA
URL;VALUE=URI:https://www.kimberly.k12.wi.us/jr-gerritts-middle/calendar/89
 30000/track-meet-vs-sabish-ms
DTSTART:20260506T204500Z
DTEND:20260506T234500Z
END:VEVENT
END:VCALENDAR
