BEGIN:VCALENDAR
VERSION:2.0
PRODID:SchoolNow
CALSCALE:GREGORIAN
BEGIN:VEVENT
UID:cff6fc9c-23a7-11f1-9e51-0a58a9feac02
DTSTAMP:20260425T153008Z
SUMMARY:PROMISEMAKERS T-RATS GAME
URL;VALUE=URI:https://www.kimberly.k12.wi.us/jr-gerritts-middle/calendar/89
 30001/promisemakers-t-rats-game
DTSTART:20260416T213000Z
DTEND:20260417T021500Z
END:VEVENT
END:VCALENDAR
