BEGIN:VCALENDAR
VERSION:2.0
PRODID:SchoolNow
CALSCALE:GREGORIAN
BEGIN:VEVENT
UID:1614c852-31ff-11f1-bc3a-0e808c0cff65
DTSTAMP:20260425T153008Z
SUMMARY:Scholastic Book Fair
LOCATION:JRG LMC
URL;VALUE=URI:https://www.kimberly.k12.wi.us/jr-gerritts-middle/calendar/89
 75459/scholastic-book-fair
DTSTART:20260507T214500Z
DTEND:20260507T224500Z
END:VEVENT
END:VCALENDAR
